BEGIN:VCALENDAR
VERSION:2.0
PRODID:-//Plone.org//NONSGML plone.app.event//EN
X-WR-TIMEZONE:Europe/Berlin
BEGIN:VEVENT
SUMMARY:Workshop mit Julian Colbus: Komposition und Sounddesign für Video
 spiele
DTSTART;TZID=Europe/Berlin:20191130T153000
DTEND;TZID=Europe/Berlin:20191130T180000
DTSTAMP:20260424T205707Z
UID:ac89178c051641dbbdfe231195eb101e@www.uni-marburg.de
CREATED:20191106T102738Z
DESCRIPTION:https://www.uni-marburg.de/de/fb09/medienwissenschaft/aktuelle
 s/termine/workshop-mit-julian-colbus-komposition-und-sounddesign-fuer-vide
 ospiele\nWorkshop im Rahmen der Medienpraxis-Reihe "Doing Audio-Visual Med
 ia: Einblicke in die Praxis der Computerspielbranche"
LAST-MODIFIED:20191106T102808Z
LOCATION:Medienzentrum\, Biegenstraße 36
URL:https://www.uni-marburg.de/de/fb09/medienwissenschaft/aktuelles/termin
 e/workshop-mit-julian-colbus-komposition-und-sounddesign-fuer-videospiele
END:VEVENT
BEGIN:VTIMEZONE
TZID:Europe/Berlin
X-LIC-LOCATION:Europe/Berlin
BEGIN:STANDARD
DTSTART:20191027T020000
TZNAME:CET
TZOFFSETFROM:+0200
TZOFFSETTO:+0100
END:STANDARD
END:VTIMEZONE
END:VCALENDAR
