BEGIN:VCALENDAR
VERSION:2.0
PRODID:-//Plone.org//NONSGML plone.app.event//EN
X-WR-TIMEZONE:Europe/Berlin
BEGIN:VEVENT
SUMMARY:Writers’ Room Hessen
DTSTART;VALUE=DATE:20171021
DTEND;VALUE=DATE:20171022
DTSTAMP:20260421T113602Z
UID:5ace2c55d75e48a58ac2f83dd2a8e501@www.uni-marburg.de
CREATED:20171001T194347Z
DESCRIPTION:https://www.uni-marburg.de/de/fb09/medienwissenschaft/aktuelle
 s/termine/writers2019-room-hessen\nSchreibworkshop der hFMA am Institut f
 ür Medienwissenschaft
LAST-MODIFIED:20171001T194440Z
LOCATION:Philipps-Universität Marburg
URL:https://www.uni-marburg.de/de/fb09/medienwissenschaft/aktuelles/termin
 e/writers2019-room-hessen
END:VEVENT
END:VCALENDAR
