BEGIN:VCALENDAR
VERSION:2.0
PRODID:-//Plone.org//NONSGML plone.app.event//EN
X-WR-TIMEZONE:Europe/Berlin
BEGIN:VEVENT
SUMMARY:Barockes Wunderhorn. Frühneuzeitliche Liedtradition und romantisc
 he Anthologie
DTSTART;TZID=Europe/Berlin:20230620T180000
DTEND;TZID=Europe/Berlin:20230620T200000
DTSTAMP:20260426T002442Z
UID:5982b276fcf5401c8b6e942b3e25a5a9@www.uni-marburg.de
ATTENDEE;CN="Dr. Astrid Dröse (Tübingen)";ROLE=REQ-PARTICIPANT:Dr. Astri
 d Dröse (Tübingen)
CREATED:20230418T154216Z
DESCRIPTION:https://www.uni-marburg.de/de/fb09/musikwissenschaft/aktivitae
 ten/aktuelles/termine/barockes-wunderhorn-fruehneuzeitliche-liedtradition-
 und-romantische-anthologie\n
LAST-MODIFIED:20260116T142217Z
LOCATION:Zoom
URL:https://www.uni-marburg.de/de/fb09/musikwissenschaft/aktivitaeten/aktu
 elles/termine/barockes-wunderhorn-fruehneuzeitliche-liedtradition-und-roma
 ntische-anthologie
END:VEVENT
BEGIN:VTIMEZONE
TZID:Europe/Berlin
X-LIC-LOCATION:Europe/Berlin
BEGIN:DAYLIGHT
DTSTART:20230326T030000
TZNAME:CEST
TZOFFSETFROM:+0100
TZOFFSETTO:+0200
END:DAYLIGHT
END:VTIMEZONE
END:VCALENDAR
