BEGIN:VCALENDAR
VERSION:2.0
PRODID:-//Plone.org//NONSGML plone.app.event//EN
X-WR-TIMEZONE:Europe/Berlin
BEGIN:VEVENT
SUMMARY:‚Das Auge ist der Feind des Ohres.‘ Hörästhetik\, Licht- und
  Farbprogramm in den Wiener Dunkelkonzerten 1939–44
DTSTART;TZID=Europe/Berlin:20251021T180000
DTEND;TZID=Europe/Berlin:20251021T200000
DTSTAMP:20260426T035556Z
UID:5756475529dd49ec8abd33c41dec8d81@www.uni-marburg.de
ATTENDEE;CN="Prof. Dr. Anne Holzmüller";ROLE=REQ-PARTICIPANT:Prof. Dr. An
 ne Holzmüller
CATEGORIES:()
CREATED:20251002T110630Z
DESCRIPTION:https://www.uni-marburg.de/de/fb09/musikwissenschaft/aktivitae
 ten/aktuelles/termine/das-auge-ist-der-feind-des-ohres-hoeraesthetik-licht
 -und-farbprogramm-in-den-wiener-dunkelkonzerten-1939-44\n
LAST-MODIFIED:20260116T142218Z
LOCATION:Pilgrimstein 14\, Vortragssaal des Deutschen Dokumentationszentru
 ms für Kunstgeschichte - Bildarchiv Foto Marburg
URL:https://www.uni-marburg.de/de/fb09/musikwissenschaft/aktivitaeten/aktu
 elles/termine/das-auge-ist-der-feind-des-ohres-hoeraesthetik-licht-und-far
 bprogramm-in-den-wiener-dunkelkonzerten-1939-44
END:VEVENT
BEGIN:VTIMEZONE
TZID:Europe/Berlin
X-LIC-LOCATION:Europe/Berlin
BEGIN:DAYLIGHT
DTSTART:20250330T030000
TZNAME:CEST
TZOFFSETFROM:+0100
TZOFFSETTO:+0200
END:DAYLIGHT
END:VTIMEZONE
END:VCALENDAR
