BEGIN:VCALENDAR
VERSION:2.0
PRODID:-//Plone.org//NONSGML plone.app.event//EN
X-WR-TIMEZONE:Europe/Berlin
BEGIN:VEVENT
SUMMARY:Der mobile Schurke in mexikanischen narcocorridos und kolumbianisc
 hen corridos prohibidos
DTSTART;TZID=Europe/Berlin:20230704T180000
DTEND;TZID=Europe/Berlin:20230704T200000
DTSTAMP:20260426T052513Z
UID:753eb716a30241b6a00c3a9f0b981263@www.uni-marburg.de
ATTENDEE;CN="Prof. Dr. Yasmin Temelli / Dr. Javier Ferrer";ROLE=REQ-PARTIC
 IPANT:Prof. Dr. Yasmin Temelli / Dr. Javier Ferrer
CREATED:20230418T154643Z
DESCRIPTION:https://www.uni-marburg.de/de/fb09/musikwissenschaft/aktivitae
 ten/aktuelles/termine/der-mobile-schurke-in-mexikanischen-narcocorridos-un
 d-kolumbianischen-corridos-prohibidos\n
LAST-MODIFIED:20260116T142217Z
LOCATION:Zoom
URL:https://www.uni-marburg.de/de/fb09/musikwissenschaft/aktivitaeten/aktu
 elles/termine/der-mobile-schurke-in-mexikanischen-narcocorridos-und-kolumb
 ianischen-corridos-prohibidos
END:VEVENT
BEGIN:VTIMEZONE
TZID:Europe/Berlin
X-LIC-LOCATION:Europe/Berlin
BEGIN:DAYLIGHT
DTSTART:20230326T030000
TZNAME:CEST
TZOFFSETFROM:+0100
TZOFFSETTO:+0200
END:DAYLIGHT
END:VTIMEZONE
END:VCALENDAR
