BEGIN:VCALENDAR
VERSION:2.0
PRODID:-//Plone.org//NONSGML plone.app.event//EN
X-WR-TIMEZONE:Europe/Berlin
BEGIN:VEVENT
SUMMARY:Gastbeitrag der Komponistin Oxana Omelchuk
DTSTART;TZID=Europe/Berlin:20210706T121500
DTEND;TZID=Europe/Berlin:20210706T134500
DTSTAMP:20260425T173456Z
UID:507100ae015148a4a94b20454f613079@www.uni-marburg.de
ATTENDEE;CN="Oxana Omelchuk";ROLE=REQ-PARTICIPANT:Oxana Omelchuk
CREATED:20210519T140317Z
DESCRIPTION:https://www.uni-marburg.de/de/fb09/musikwissenschaft/aktivitae
 ten/aktuelles/termine/gastbeitrag-der-komponistin-oxana-omelchuk\n
LAST-MODIFIED:20260116T142217Z
LOCATION:Digitale Lehrveranstaltung
URL:https://www.uni-marburg.de/de/fb09/musikwissenschaft/aktivitaeten/aktu
 elles/termine/gastbeitrag-der-komponistin-oxana-omelchuk
END:VEVENT
BEGIN:VTIMEZONE
TZID:Europe/Berlin
X-LIC-LOCATION:Europe/Berlin
BEGIN:DAYLIGHT
DTSTART:20210328T030000
TZNAME:CEST
TZOFFSETFROM:+0100
TZOFFSETTO:+0200
END:DAYLIGHT
END:VTIMEZONE
END:VCALENDAR
