BEGIN:VCALENDAR
VERSION:2.0
PRODID:-//Plone.org//NONSGML plone.app.event//EN
X-WR-TIMEZONE:Europe/Berlin
BEGIN:VEVENT
SUMMARY:Gastbeitrag der Pianistin Rei Nakamura
DTSTART;TZID=Europe/Berlin:20210706T161500
DTEND;TZID=Europe/Berlin:20210706T174500
DTSTAMP:20260425T020129Z
UID:ffe420bf6e2f46569ae3420e4ba1fb70@www.uni-marburg.de
ATTENDEE;CN="Rei Nakamura ";ROLE=REQ-PARTICIPANT:Rei Nakamura 
CREATED:20210507T105540Z
DESCRIPTION:https://www.uni-marburg.de/de/fb09/musikwissenschaft/aktivitae
 ten/aktuelles/termine/gastbeitrag-der-pianistin-rei-nakamura\n
LAST-MODIFIED:20260116T142217Z
LOCATION:Digitale Lehrveranstaltung
URL:https://www.uni-marburg.de/de/fb09/musikwissenschaft/aktivitaeten/aktu
 elles/termine/gastbeitrag-der-pianistin-rei-nakamura
END:VEVENT
BEGIN:VTIMEZONE
TZID:Europe/Berlin
X-LIC-LOCATION:Europe/Berlin
BEGIN:DAYLIGHT
DTSTART:20210328T030000
TZNAME:CEST
TZOFFSETFROM:+0100
TZOFFSETTO:+0200
END:DAYLIGHT
END:VTIMEZONE
END:VCALENDAR
