BEGIN:VCALENDAR
VERSION:2.0
PRODID:-//Plone.org//NONSGML plone.app.event//EN
X-WR-TIMEZONE:Europe/Berlin
BEGIN:VEVENT
SUMMARY:Gastbeitrag des Komponisten Hannes Seidl
DTSTART;TZID=Europe/Berlin:20210622T161500
DTEND;TZID=Europe/Berlin:20210622T174500
DTSTAMP:20260425T160324Z
UID:c70768732e3f402595787972e8fa5dfe@www.uni-marburg.de
ATTENDEE;CN="Hannes Seidl";ROLE=REQ-PARTICIPANT:Hannes Seidl
CREATED:20210507T104524Z
DESCRIPTION:https://www.uni-marburg.de/de/fb09/musikwissenschaft/aktivitae
 ten/aktuelles/termine/gastbeitrag-des-komponisten-hannes-seidl\n
LAST-MODIFIED:20260116T142216Z
LOCATION:Digitale Lehrveranstaltung
URL:https://www.uni-marburg.de/de/fb09/musikwissenschaft/aktivitaeten/aktu
 elles/termine/gastbeitrag-des-komponisten-hannes-seidl
END:VEVENT
BEGIN:VTIMEZONE
TZID:Europe/Berlin
X-LIC-LOCATION:Europe/Berlin
BEGIN:DAYLIGHT
DTSTART:20210328T030000
TZNAME:CEST
TZOFFSETFROM:+0100
TZOFFSETTO:+0200
END:DAYLIGHT
END:VTIMEZONE
END:VCALENDAR
