BEGIN:VCALENDAR
VERSION:2.0
PRODID:-//Plone.org//NONSGML plone.app.event//EN
X-WR-TIMEZONE:Europe/Berlin
BEGIN:VEVENT
SUMMARY:Gastbeitrag des Komponisten Diego Ramos
DTSTART;TZID=Europe/Berlin:20210615T161500
DTEND;TZID=Europe/Berlin:20210615T174500
DTSTAMP:20260425T173654Z
UID:ce547513cbc546f5b9a46f42243449ca@www.uni-marburg.de
ATTENDEE;CN="Diego Ramos Rodríguez";ROLE=REQ-PARTICIPANT:Diego Ramos Rodr
 íguez
CREATED:20210428T132208Z
DESCRIPTION:https://www.uni-marburg.de/de/fb09/musikwissenschaft/aktivitae
 ten/aktuelles/termine/gastvortrag-des-komponisten-diego-ramos\n
LAST-MODIFIED:20260116T142216Z
LOCATION:Digitale Lehrveranstaltung
URL:https://www.uni-marburg.de/de/fb09/musikwissenschaft/aktivitaeten/aktu
 elles/termine/gastvortrag-des-komponisten-diego-ramos
END:VEVENT
BEGIN:VTIMEZONE
TZID:Europe/Berlin
X-LIC-LOCATION:Europe/Berlin
BEGIN:DAYLIGHT
DTSTART:20210328T030000
TZNAME:CEST
TZOFFSETFROM:+0100
TZOFFSETTO:+0200
END:DAYLIGHT
END:VTIMEZONE
END:VCALENDAR
