BEGIN:VCALENDAR
VERSION:2.0
PRODID:-//Plone.org//NONSGML plone.app.event//EN
X-WR-TIMEZONE:Europe/Berlin
BEGIN:VEVENT
SUMMARY:Gastvortrag von Michael Rebhahn zu John Cage
DTSTART;TZID=Europe/Berlin:20260120T100000
DTEND;TZID=Europe/Berlin:20260120T120000
DTSTAMP:20260425T101844Z
UID:69970ae3eec44257a694ae67041a8b60@www.uni-marburg.de
CREATED:20260112T160357Z
DESCRIPTION:https://www.uni-marburg.de/de/fb09/musikwissenschaft/aktivitae
 ten/aktuelles/termine/gastvortrag-von-michael-rebhahn-zu-john-cage\n
LAST-MODIFIED:20260116T142219Z
LOCATION:Biegenstraße 11\, Raum 02010
URL:https://www.uni-marburg.de/de/fb09/musikwissenschaft/aktivitaeten/aktu
 elles/termine/gastvortrag-von-michael-rebhahn-zu-john-cage
END:VEVENT
BEGIN:VTIMEZONE
TZID:Europe/Berlin
X-LIC-LOCATION:Europe/Berlin
BEGIN:STANDARD
DTSTART:20251026T020000
TZNAME:CET
TZOFFSETFROM:+0200
TZOFFSETTO:+0100
END:STANDARD
END:VTIMEZONE
END:VCALENDAR
