BEGIN:VCALENDAR
VERSION:2.0
PRODID:-//Plone.org//NONSGML plone.app.event//EN
X-WR-TIMEZONE:Europe/Berlin
BEGIN:VEVENT
SUMMARY:Geselligkeit im Rausch. Europäische Trinklieder in der Frühen Ne
 uzeit
DTSTART;TZID=Europe/Berlin:20230711T180000
DTEND;TZID=Europe/Berlin:20230711T200000
DTSTAMP:20260426T012138Z
UID:eb3109a5dae742ad89f0ea55a7fcc1bc@www.uni-marburg.de
ATTENDEE;CN="Prof. Dr. Katharina Hottmann (Siegen)";ROLE=REQ-PARTICIPANT:P
 rof. Dr. Katharina Hottmann (Siegen)
CREATED:20230418T154908Z
DESCRIPTION:https://www.uni-marburg.de/de/fb09/musikwissenschaft/aktivitae
 ten/aktuelles/termine/geselligkeit-im-rausch-europaeische-trinklieder-in-d
 er-fruehen-neuzeit\n
LAST-MODIFIED:20260116T142217Z
LOCATION:Zoom
URL:https://www.uni-marburg.de/de/fb09/musikwissenschaft/aktivitaeten/aktu
 elles/termine/geselligkeit-im-rausch-europaeische-trinklieder-in-der-frueh
 en-neuzeit
END:VEVENT
BEGIN:VTIMEZONE
TZID:Europe/Berlin
X-LIC-LOCATION:Europe/Berlin
BEGIN:DAYLIGHT
DTSTART:20230326T030000
TZNAME:CEST
TZOFFSETFROM:+0100
TZOFFSETTO:+0200
END:DAYLIGHT
END:VTIMEZONE
END:VCALENDAR
