BEGIN:VCALENDAR
VERSION:2.0
PRODID:-//Plone.org//NONSGML plone.app.event//EN
X-WR-TIMEZONE:Europe/Berlin
BEGIN:VEVENT
SUMMARY:Ist Raum komponierbar? Ivan Wyschnegradskys Pansonorité
DTSTART;TZID=Europe/Berlin:20251216T180000
DTEND;TZID=Europe/Berlin:20251216T200000
DTSTAMP:20260425T125939Z
UID:32875e0676714e3894add5f37f21258f@www.uni-marburg.de
ATTENDEE;CN="Jakob Uhlig M.A.";ROLE=REQ-PARTICIPANT:Jakob Uhlig M.A.
CREATED:20251002T120120Z
DESCRIPTION:https://www.uni-marburg.de/de/fb09/musikwissenschaft/aktivitae
 ten/aktuelles/termine/ist-raum-komponierbar-ivan-wyschnegradskys-pansonori
 te\n
LAST-MODIFIED:20260116T142218Z
LOCATION:Pilgrimstein 14\, Vortragsaal des Deutschen Dokumentationszentrum
 s für Kunstgeschichte – Bildarchiv Foto Marburg
URL:https://www.uni-marburg.de/de/fb09/musikwissenschaft/aktivitaeten/aktu
 elles/termine/ist-raum-komponierbar-ivan-wyschnegradskys-pansonorite
END:VEVENT
BEGIN:VTIMEZONE
TZID:Europe/Berlin
X-LIC-LOCATION:Europe/Berlin
BEGIN:STANDARD
DTSTART:20251026T020000
TZNAME:CET
TZOFFSETFROM:+0200
TZOFFSETTO:+0100
END:STANDARD
END:VTIMEZONE
END:VCALENDAR
