BEGIN:VCALENDAR
VERSION:2.0
PRODID:-//Plone.org//NONSGML plone.app.event//EN
X-WR-TIMEZONE:Europe/Berlin
BEGIN:VEVENT
SUMMARY:Klavier- und Kammermusik als Lied. Zur Praxis der Vertextung am Be
 ispiel Ludwig van Beethovens
DTSTART;TZID=Europe/Berlin:20230502T180000
DTEND;TZID=Europe/Berlin:20230502T200000
DTSTAMP:20260425T193046Z
UID:6c7c256dcdf04f35bd2e90317853f589@www.uni-marburg.de
ATTENDEE;CN="Prof. Dr. Christine Siegert (Bonn)";ROLE=REQ-PARTICIPANT:Prof
 . Dr. Christine Siegert (Bonn)
CREATED:20230418T152246Z
DESCRIPTION:https://www.uni-marburg.de/de/fb09/musikwissenschaft/aktivitae
 ten/aktuelles/termine/klavier-und-kammermusik-als-lied-zur-praxis-der-vert
 extung-am-beispiel-ludwig-van-beethovens\n
LAST-MODIFIED:20260116T142217Z
LOCATION:Zoom
URL:https://www.uni-marburg.de/de/fb09/musikwissenschaft/aktivitaeten/aktu
 elles/termine/klavier-und-kammermusik-als-lied-zur-praxis-der-vertextung-a
 m-beispiel-ludwig-van-beethovens
END:VEVENT
BEGIN:VTIMEZONE
TZID:Europe/Berlin
X-LIC-LOCATION:Europe/Berlin
BEGIN:DAYLIGHT
DTSTART:20230326T030000
TZNAME:CEST
TZOFFSETFROM:+0100
TZOFFSETTO:+0200
END:DAYLIGHT
END:VTIMEZONE
END:VCALENDAR
