BEGIN:VCALENDAR
VERSION:2.0
PRODID:-//Plone.org//NONSGML plone.app.event//EN
X-WR-TIMEZONE:Europe/Berlin
BEGIN:VEVENT
SUMMARY:Lied\, Song und kulturelle Mobilität
DTSTART;TZID=Europe/Berlin:20230425T180000
DTEND;TZID=Europe/Berlin:20230425T200000
DTSTAMP:20260425T230949Z
UID:19af8f1770a144e7987cde832569f476@www.uni-marburg.de
ATTENDEE;CN="Prof. Dr. Nils Grosch (Salzburg)";ROLE=REQ-PARTICIPANT:Prof. 
 Dr. Nils Grosch (Salzburg)
CREATED:20230418T151908Z
DESCRIPTION:https://www.uni-marburg.de/de/fb09/musikwissenschaft/aktivitae
 ten/aktuelles/termine/lied-song-und-kulturelle-mobilitaet\n
LAST-MODIFIED:20260116T142217Z
LOCATION:Zoom
URL:https://www.uni-marburg.de/de/fb09/musikwissenschaft/aktivitaeten/aktu
 elles/termine/lied-song-und-kulturelle-mobilitaet
END:VEVENT
BEGIN:VTIMEZONE
TZID:Europe/Berlin
X-LIC-LOCATION:Europe/Berlin
BEGIN:DAYLIGHT
DTSTART:20230326T030000
TZNAME:CEST
TZOFFSETFROM:+0100
TZOFFSETTO:+0200
END:DAYLIGHT
END:VTIMEZONE
END:VCALENDAR
