BEGIN:VCALENDAR
VERSION:2.0
PRODID:-//Plone.org//NONSGML plone.app.event//EN
X-WR-TIMEZONE:Europe/Berlin
BEGIN:VEVENT
SUMMARY:Music meets Medicine – Musik in der Pandemie
DTSTART;TZID=Europe/Berlin:20210301T193000
DTSTAMP:20260426T022803Z
UID:21bc5358c7e44e0ea1424e7b6ae69822@www.uni-marburg.de
ATTENDEE;CN="Prof. Dr. Manfred Schubert-Zsilavecz";ROLE=REQ-PARTICIPANT:Pr
 of. Dr. Manfred Schubert-Zsilavecz
ATTENDEE;CN=;ROLE=REQ-PARTICIPANT:
ATTENDEE;CN="Lea Hausmann – Violine";ROLE=REQ-PARTICIPANT:Lea Hausmann 
 – Violine
ATTENDEE;CN="Andrei Gologan – Klavier";ROLE=REQ-PARTICIPANT:Andrei Golog
 an – Klavier
ATTENDEE;CN="Stefan Nitschke – Gitarre";ROLE=REQ-PARTICIPANT:Stefan Nits
 chke – Gitarre
ATTENDEE;CN="Marco Braun – Gitarre";ROLE=REQ-PARTICIPANT:Marco Braun –
  Gitarre
ATTENDEE;CN="David Stöbener – Gesang";ROLE=REQ-PARTICIPANT:David Stöbe
 ner – Gesang
ATTENDEE;CN="Valeriya Mykhtaryants – Gesang";ROLE=REQ-PARTICIPANT:Valeri
 ya Mykhtaryants – Gesang
ATTENDEE;CN="Annika Weiler – Gitarre";ROLE=REQ-PARTICIPANT:Annika Weiler
  – Gitarre
CREATED:20210218T130442Z
DESCRIPTION:https://www.uni-marburg.de/de/fb09/musikwissenschaft/aktivitae
 ten/aktuelles/termine/music-meets-medicine-musik-in-der-pandemie\n
LAST-MODIFIED:20260116T142216Z
LOCATION:live aus dem Erwin-Piscator-Haus über den YouTube-Kanal @music_m
 eets_medicine
URL:https://www.uni-marburg.de/de/fb09/musikwissenschaft/aktivitaeten/aktu
 elles/termine/music-meets-medicine-musik-in-der-pandemie
END:VEVENT
BEGIN:VTIMEZONE
TZID:Europe/Berlin
X-LIC-LOCATION:Europe/Berlin
BEGIN:STANDARD
DTSTART:20201025T020000
TZNAME:CET
TZOFFSETFROM:+0200
TZOFFSETTO:+0100
END:STANDARD
END:VTIMEZONE
END:VCALENDAR
