BEGIN:VCALENDAR
VERSION:2.0
PRODID:-//Plone.org//NONSGML plone.app.event//EN
X-WR-TIMEZONE:Europe/Berlin
BEGIN:VEVENT
SUMMARY:„Music meets Medicine“– Musik und Emotionen
DTSTART;TZID=Europe/Berlin:20200203T193000
DTSTAMP:20260426T014349Z
UID:548f2346be474165bb06912d2c84a725@www.uni-marburg.de
ATTENDEE;CN="Dr. med. Stefan Gebhardt";ROLE=REQ-PARTICIPANT:Dr. med. Stefa
 n Gebhardt
ATTENDEE;CN="Lukas Rommelspacher – Klavier";ROLE=REQ-PARTICIPANT:Lukas R
 ommelspacher – Klavier
ATTENDEE;CN="Stefan Nitschke – Gitarre";ROLE=REQ-PARTICIPANT:Stefan Nits
 chke – Gitarre
ATTENDEE;CN="Marco Braun – Gitarre";ROLE=REQ-PARTICIPANT:Marco Braun –
  Gitarre
CREATED:20200120T093408Z
DESCRIPTION:https://www.uni-marburg.de/de/fb09/musikwissenschaft/aktivitae
 ten/aktuelles/termine/music-meets-medicine-musik-und-emotionen\n
LAST-MODIFIED:20260116T142216Z
LOCATION:Fürstensaal des Landgrafenschlosses
URL:https://www.uni-marburg.de/de/fb09/musikwissenschaft/aktivitaeten/aktu
 elles/termine/music-meets-medicine-musik-und-emotionen
END:VEVENT
BEGIN:VTIMEZONE
TZID:Europe/Berlin
X-LIC-LOCATION:Europe/Berlin
BEGIN:STANDARD
DTSTART:20191027T020000
TZNAME:CET
TZOFFSETFROM:+0200
TZOFFSETTO:+0100
END:STANDARD
END:VTIMEZONE
END:VCALENDAR
