BEGIN:VCALENDAR
VERSION:2.0
PRODID:-//Plone.org//NONSGML plone.app.event//EN
X-WR-TIMEZONE:Europe/Berlin
BEGIN:VEVENT
SUMMARY:Ost trifft West: Klavier- und Kammermusik von Schubert\, Hindemith
 \, Tschaikowski und Rachmaninow
DTSTART;TZID=Europe/Berlin:20191107T193000
DTSTAMP:20260424T210421Z
UID:c631a6d7d9864e6abea723c59bb3451b@www.uni-marburg.de
ATTENDEE;CN="Anton Urvalov (Bratsche), Alexander und Viktor Urvalov (Klavi
 er)";ROLE=REQ-PARTICIPANT:Anton Urvalov (Bratsche), Alexander und Viktor U
 rvalov (Klavier)
CREATED:20191030T202425Z
DESCRIPTION:https://www.uni-marburg.de/de/fb09/musikwissenschaft/aktivitae
 ten/aktuelles/termine/ost-trifft-west\nKonzertveranstaltung
LAST-MODIFIED:20260116T142157Z
LOCATION:Rathaus Marburg\, Markt 1
URL:https://www.uni-marburg.de/de/fb09/musikwissenschaft/aktivitaeten/aktu
 elles/termine/ost-trifft-west
END:VEVENT
BEGIN:VTIMEZONE
TZID:Europe/Berlin
X-LIC-LOCATION:Europe/Berlin
BEGIN:STANDARD
DTSTART:20191027T020000
TZNAME:CET
TZOFFSETFROM:+0200
TZOFFSETTO:+0100
END:STANDARD
END:VTIMEZONE
END:VCALENDAR
