BEGIN:VCALENDAR
VERSION:2.0
PRODID:-//Plone.org//NONSGML plone.app.event//EN
X-WR-TIMEZONE:Europe/Berlin
BEGIN:VEVENT
SUMMARY:Semestereröffnung der Musikwissenschaft
DTSTART;TZID=Europe/Berlin:20231018T180000
DTSTAMP:20260425T203233Z
UID:a28a71bdf2894780ac50dc586565eaae@www.uni-marburg.de
CREATED:20231010T165804Z
DESCRIPTION:https://www.uni-marburg.de/de/fb09/musikwissenschaft/aktivitae
 ten/aktuelles/termine/semestereroeffnung-der-musikwissenschaft-1\n
LAST-MODIFIED:20260116T142218Z
LOCATION:Biegenstraße 11\, Raum 02010
URL:https://www.uni-marburg.de/de/fb09/musikwissenschaft/aktivitaeten/aktu
 elles/termine/semestereroeffnung-der-musikwissenschaft-1
END:VEVENT
BEGIN:VTIMEZONE
TZID:Europe/Berlin
X-LIC-LOCATION:Europe/Berlin
BEGIN:DAYLIGHT
DTSTART:20230326T030000
TZNAME:CEST
TZOFFSETFROM:+0100
TZOFFSETTO:+0200
END:DAYLIGHT
END:VTIMEZONE
END:VCALENDAR
