BEGIN:VCALENDAR
VERSION:2.0
PRODID:-//Plone.org//NONSGML plone.app.event//EN
X-WR-TIMEZONE:Europe/Berlin
BEGIN:VEVENT
SUMMARY:Semestereröffnung der Musikwissenschaft
DTSTART;TZID=Europe/Berlin:20221017T190000
DTSTAMP:20260425T140606Z
UID:be3e303d1057482eab948618c76ceb53@www.uni-marburg.de
CREATED:20221007T204827Z
DESCRIPTION:https://www.uni-marburg.de/de/fb09/musikwissenschaft/aktivitae
 ten/aktuelles/termine/semestereroeffnung-der-musikwissenschaft\n
LAST-MODIFIED:20260116T142217Z
LOCATION:Biegenstraße 11\, Raum 00013
URL:https://www.uni-marburg.de/de/fb09/musikwissenschaft/aktivitaeten/aktu
 elles/termine/semestereroeffnung-der-musikwissenschaft
END:VEVENT
BEGIN:VTIMEZONE
TZID:Europe/Berlin
X-LIC-LOCATION:Europe/Berlin
BEGIN:DAYLIGHT
DTSTART:20220327T030000
TZNAME:CEST
TZOFFSETFROM:+0100
TZOFFSETTO:+0200
END:DAYLIGHT
END:VTIMEZONE
END:VCALENDAR
