BEGIN:VCALENDAR
VERSION:2.0
PRODID:-//Plone.org//NONSGML plone.app.event//EN
X-WR-TIMEZONE:Europe/Berlin
BEGIN:VEVENT
SUMMARY:Sinnbildkunst und Klang. Emblemata im Gesangbuch des 16. Jahrhunde
 rts
DTSTART;TZID=Europe/Berlin:20250604T180000
DTEND;TZID=Europe/Berlin:20250604T200000
DTSTAMP:20260425T185942Z
UID:90cf7815debd45f5b9c420b7f215a4cc@www.uni-marburg.de
CREATED:20250521T085834Z
DESCRIPTION:https://www.uni-marburg.de/de/fb09/musikwissenschaft/aktivitae
 ten/aktuelles/termine/sinnbildkunst-und-klang-emblemata-im-gesangbuch-des-
 16-jahrhunderts\n
LAST-MODIFIED:20260116T142218Z
LOCATION:Musikwissenschaftliches Institut\, Biegenstraße 11\, Raum 02010
URL:https://www.uni-marburg.de/de/fb09/musikwissenschaft/aktivitaeten/aktu
 elles/termine/sinnbildkunst-und-klang-emblemata-im-gesangbuch-des-16-jahrh
 underts
END:VEVENT
BEGIN:VTIMEZONE
TZID:Europe/Berlin
X-LIC-LOCATION:Europe/Berlin
BEGIN:DAYLIGHT
DTSTART:20250330T030000
TZNAME:CEST
TZOFFSETFROM:+0100
TZOFFSETTO:+0200
END:DAYLIGHT
END:VTIMEZONE
END:VCALENDAR
