BEGIN:VCALENDAR
VERSION:2.0
PRODID:-//Plone.org//NONSGML plone.app.event//EN
X-WR-TIMEZONE:Europe/Berlin
BEGIN:VEVENT
SUMMARY:Songs und Sonnets. Frühneuzeitliche Wechselwirkungen
DTSTART;TZID=Europe/Berlin:20230606T180000
DTEND;TZID=Europe/Berlin:20230606T200000
DTSTAMP:20260425T231004Z
UID:f9b282f5c95a492fba3d0f69fcd406e3@www.uni-marburg.de
ATTENDEE;CN="Prof. Dr. Felix Spang (Siegen)";ROLE=REQ-PARTICIPANT:Prof. Dr
 . Felix Spang (Siegen)
CREATED:20230418T153651Z
DESCRIPTION:https://www.uni-marburg.de/de/fb09/musikwissenschaft/aktivitae
 ten/aktuelles/termine/songs-und-sonnets-fruehneuzeitliche-wechselwirkungen
 \n
LAST-MODIFIED:20260116T142217Z
LOCATION:Zoom
URL:https://www.uni-marburg.de/de/fb09/musikwissenschaft/aktivitaeten/aktu
 elles/termine/songs-und-sonnets-fruehneuzeitliche-wechselwirkungen
END:VEVENT
BEGIN:VTIMEZONE
TZID:Europe/Berlin
X-LIC-LOCATION:Europe/Berlin
BEGIN:DAYLIGHT
DTSTART:20230326T030000
TZNAME:CEST
TZOFFSETFROM:+0100
TZOFFSETTO:+0200
END:DAYLIGHT
END:VTIMEZONE
END:VCALENDAR
