BEGIN:VCALENDAR
VERSION:2.0
PRODID:-//Plone.org//NONSGML plone.app.event//EN
X-WR-TIMEZONE:Europe/Berlin
BEGIN:VEVENT
SUMMARY:Vergeschlechtlichte Natur- und Stadträume in der medialen Inszeni
 erung
DTSTART;TZID=Europe/Berlin:20251028T180000
DTEND;TZID=Europe/Berlin:20251028T200000
DTSTAMP:20260425T201646Z
UID:ada7898dfa4643bbb4f97978f6f15795@www.uni-marburg.de
ATTENDEE;CN="Dr. Monika Weiß";ROLE=REQ-PARTICIPANT:Dr. Monika Weiß
CATEGORIES:()
CREATED:20251002T111207Z
DESCRIPTION:https://www.uni-marburg.de/de/fb09/musikwissenschaft/aktivitae
 ten/aktuelles/termine/vergeschlechtliche-natur-und-stadtraeume\n
LAST-MODIFIED:20260116T142218Z
LOCATION:Pilgrimstein 14\, Vortragssaal des Deutschen Dokumentationszentru
 ms für Kunstgeschichte - Bildarchiv Foto Marburg
URL:https://www.uni-marburg.de/de/fb09/musikwissenschaft/aktivitaeten/aktu
 elles/termine/vergeschlechtliche-natur-und-stadtraeume
END:VEVENT
BEGIN:VTIMEZONE
TZID:Europe/Berlin
X-LIC-LOCATION:Europe/Berlin
BEGIN:STANDARD
DTSTART:20251026T020000
TZNAME:CET
TZOFFSETFROM:+0200
TZOFFSETTO:+0100
END:STANDARD
END:VTIMEZONE
END:VCALENDAR
