BEGIN:VCALENDAR
VERSION:2.0
PRODID:-//Plone.org//NONSGML plone.app.event//EN
X-WR-TIMEZONE:Europe/Berlin
BEGIN:VEVENT
SUMMARY:Wagner und das Populäre. Die Lieder der Meistersinger in der bür
 gerlichen Moderne
DTSTART;TZID=Europe/Berlin:20230627T180000
DTEND;TZID=Europe/Berlin:20230627T200000
DTSTAMP:20260425T214919Z
UID:1553b1f83a594c05bfbbf7e1deaa9bae@www.uni-marburg.de
ATTENDEE;CN="Prof. Dr. Tobias Janz (Bonn)";ROLE=REQ-PARTICIPANT:Prof. Dr. 
 Tobias Janz (Bonn)
CREATED:20230418T154414Z
DESCRIPTION:https://www.uni-marburg.de/de/fb09/musikwissenschaft/aktivitae
 ten/aktuelles/termine/wagner-und-das-populaere-die-lieder-der-meistersinge
 r-in-der-buergerlichen-moderne\n
LAST-MODIFIED:20260116T142217Z
LOCATION:Zoom
URL:https://www.uni-marburg.de/de/fb09/musikwissenschaft/aktivitaeten/aktu
 elles/termine/wagner-und-das-populaere-die-lieder-der-meistersinger-in-der
 -buergerlichen-moderne
END:VEVENT
BEGIN:VTIMEZONE
TZID:Europe/Berlin
X-LIC-LOCATION:Europe/Berlin
BEGIN:DAYLIGHT
DTSTART:20230326T030000
TZNAME:CEST
TZOFFSETFROM:+0100
TZOFFSETTO:+0200
END:DAYLIGHT
END:VTIMEZONE
END:VCALENDAR
