BEGIN:VCALENDAR
VERSION:2.0
PRODID:-//Plone.org//NONSGML plone.app.event//EN
X-WR-TIMEZONE:Europe/Berlin
BEGIN:VEVENT
SUMMARY:Abi-Booster
DTSTART;TZID=Europe/Berlin:20240316T100000
DTEND;TZID=Europe/Berlin:20240316T140000
DTSTAMP:20260423T232536Z
UID:80e12879224141d6b6be7267337e2a98@www.uni-marburg.de
CREATED:20240221T083829Z
DESCRIPTION:https://www.uni-marburg.de/de/fb09/neuere-deutsche-literatur/a
 ktuelles/termine/abi-booster\nIntensiv-Coaching für das Abi Deutsch
LAST-MODIFIED:20240221T084142Z
LOCATION:Pilgrimstein 12\, Seminarräume
URL:https://www.uni-marburg.de/de/fb09/neuere-deutsche-literatur/aktuelles
 /termine/abi-booster
END:VEVENT
BEGIN:VTIMEZONE
TZID:Europe/Berlin
X-LIC-LOCATION:Europe/Berlin
BEGIN:STANDARD
DTSTART:20231029T020000
TZNAME:CET
TZOFFSETFROM:+0200
TZOFFSETTO:+0100
END:STANDARD
END:VTIMEZONE
END:VCALENDAR
