BEGIN:VCALENDAR
VERSION:2.0
PRODID:-//Plone.org//NONSGML plone.app.event//EN
X-WR-TIMEZONE:Europe/Berlin
BEGIN:VEVENT
SUMMARY:Anmeldung zu den SPS II Deutsch vom 7. bis 29.5. - alle Plätze si
 nd belegt
DTSTART;TZID=Europe/Berlin:20190507T083000
DTEND;TZID=Europe/Berlin:20190529T160500
DTSTAMP:20260425T024554Z
UID:41cdec01722741fd8dcaf39ac6a2b3eb@www.uni-marburg.de
CREATED:20180425T112105Z
DESCRIPTION:https://www.uni-marburg.de/de/fb09/neuere-deutsche-literatur/a
 ktuelles/termine/anmeldung-zu-den-sps-ii-vom-2-bis-23-5\nIm Wintersemester
  2019/20 findet das Fachdidaktische Praktikum Deutsch in Verbindung mit de
 r Begleitveranstaltung von Frau Dr. König statt. Bitte melden Sie sich ab
  dem 7.5.\, 8:30 Uhr im Büro von Frau Weber (B105) an.
LAST-MODIFIED:20190529T140544Z
LOCATION:Deutschhausstraße 3\, Zimmer B105
URL:https://www.uni-marburg.de/de/fb09/neuere-deutsche-literatur/aktuelles
 /termine/anmeldung-zu-den-sps-ii-vom-2-bis-23-5
END:VEVENT
BEGIN:VTIMEZONE
TZID:Europe/Berlin
X-LIC-LOCATION:Europe/Berlin
BEGIN:DAYLIGHT
DTSTART:20190331T030000
TZNAME:CEST
TZOFFSETFROM:+0100
TZOFFSETTO:+0200
END:DAYLIGHT
END:VTIMEZONE
END:VCALENDAR
