BEGIN:VCALENDAR
VERSION:2.0
PRODID:-//Plone.org//NONSGML plone.app.event//EN
X-WR-TIMEZONE:Europe/Berlin
BEGIN:VEVENT
SUMMARY:»Barocke Gegenwartslyrik. Referenzen – Aneignungen – Aktualis
 ierungen«. Tagung
DTSTART;TZID=Europe/Berlin:20230323T130000
DTEND;TZID=Europe/Berlin:20230325T140000
DTSTAMP:20260424T205219Z
UID:23233871ffcb43c895f18bc51615f0a8@www.uni-marburg.de
CREATED:20230317T080556Z
DESCRIPTION:https://www.uni-marburg.de/de/fb09/neuere-deutsche-literatur/a
 ktuelles/termine/barocke-gegenwartslyrik-tagung\n
LAST-MODIFIED:20230317T084255Z
LOCATION:KIT Karlsruhe
URL:https://www.uni-marburg.de/de/fb09/neuere-deutsche-literatur/aktuelles
 /termine/barocke-gegenwartslyrik-tagung
END:VEVENT
BEGIN:VTIMEZONE
TZID:Europe/Berlin
X-LIC-LOCATION:Europe/Berlin
BEGIN:STANDARD
DTSTART:20221030T020000
TZNAME:CET
TZOFFSETFROM:+0200
TZOFFSETTO:+0100
END:STANDARD
END:VTIMEZONE
END:VCALENDAR
