BEGIN:VCALENDAR
VERSION:2.0
PRODID:-//Plone.org//NONSGML plone.app.event//EN
X-WR-TIMEZONE:Europe/Berlin
BEGIN:VEVENT
SUMMARY:Die Geschichtlichkeit des Briefs. Kontinuität und Wandel einer Ko
 mmunikationsform
DTSTART;TZID=Europe/Berlin:20200227T140000
DTEND;TZID=Europe/Berlin:20200228T173000
DTSTAMP:20260425T202903Z
UID:ddafaf84123d499f8d9a7f5568f968e1@www.uni-marburg.de
CREATED:20200220T132048Z
DESCRIPTION:https://www.uni-marburg.de/de/fb09/neuere-deutsche-literatur/a
 ktuelles/termine/die-geschichtlichkeit-des-briefs-kontinuitaet-und-wandel-
 einer-kommunikationsform\n
LAST-MODIFIED:20200225T185004Z
LOCATION:Deutschhausstraße 3\, Raum 00/1020
URL:https://www.uni-marburg.de/de/fb09/neuere-deutsche-literatur/aktuelles
 /termine/die-geschichtlichkeit-des-briefs-kontinuitaet-und-wandel-einer-ko
 mmunikationsform
END:VEVENT
BEGIN:VTIMEZONE
TZID:Europe/Berlin
X-LIC-LOCATION:Europe/Berlin
BEGIN:STANDARD
DTSTART:20191027T020000
TZNAME:CET
TZOFFSETFROM:+0200
TZOFFSETTO:+0100
END:STANDARD
END:VTIMEZONE
END:VCALENDAR
