BEGIN:VCALENDAR
VERSION:2.0
PRODID:-//Plone.org//NONSGML plone.app.event//EN
X-WR-TIMEZONE:Europe/Berlin
BEGIN:VEVENT
SUMMARY:Digitale Informationsveranstaltung zum M. A.-Studiengang "Deutschs
 prachige Literatur. Text - Kultur - Medien"
DTSTART;TZID=Europe/Berlin:20240124T180000
DTEND;TZID=Europe/Berlin:20240124T200000
DTSTAMP:20260425T224618Z
UID:b4339c70fb2d4db6867715a833d5dbb4@www.uni-marburg.de
CREATED:20240110T170009Z
DESCRIPTION:https://www.uni-marburg.de/de/fb09/neuere-deutsche-literatur/a
 ktuelles/termine/digitale-informationsveranstaltung-zum-m-a-studiengang-de
 utschsprachige-literatur-text-kultur-medien\n
LAST-MODIFIED:20240110T170325Z
LOCATION:Digital
URL:https://www.uni-marburg.de/de/fb09/neuere-deutsche-literatur/aktuelles
 /termine/digitale-informationsveranstaltung-zum-m-a-studiengang-deutschspr
 achige-literatur-text-kultur-medien
END:VEVENT
BEGIN:VTIMEZONE
TZID:Europe/Berlin
X-LIC-LOCATION:Europe/Berlin
BEGIN:STANDARD
DTSTART:20231029T020000
TZNAME:CET
TZOFFSETFROM:+0200
TZOFFSETTO:+0100
END:STANDARD
END:VTIMEZONE
END:VCALENDAR
