BEGIN:VCALENDAR
VERSION:2.0
PRODID:-//Plone.org//NONSGML plone.app.event//EN
X-WR-TIMEZONE:Europe/Berlin
BEGIN:VEVENT
SUMMARY:digitale Informationsveranstaltungen zum M.A.-Studiengang Literatu
 rvermittlung in den Medien
DTSTART;TZID=Europe/Berlin:20220530T180000
DTEND;TZID=Europe/Berlin:20220530T190000
DTSTAMP:20260426T002506Z
UID:82efdb5e77f6452e9ef1cb91380ed538@www.uni-marburg.de
RRULE:FREQ=DAILY;COUNT=7
RDATE;TZID=Europe/Berlin:20220711T180000
EXDATE;TZID=Europe/Berlin:20220531T180000,20220601T180000,20220602T180000,
 20220603T180000,20220604T180000,20220605T180000
ATTENDEE;CN="Prof. Dr. Doren Wohlleben";ROLE=REQ-PARTICIPANT:Prof. Dr. Dor
 en Wohlleben
CREATED:20220527T083249Z
DESCRIPTION:https://www.uni-marburg.de/de/fb09/neuere-deutsche-literatur/a
 ktuelles/termine/digitale-informationsveranstaltungen-zum-m-a-studiengang-
 literaturvermittlung-in-den-medien\n
LAST-MODIFIED:20220530T065910Z
LOCATION:https://webconf.hrz.uni-marburg.de/b/dor-e8j-wge-w4m
URL:https://www.uni-marburg.de/de/fb09/neuere-deutsche-literatur/aktuelles
 /termine/digitale-informationsveranstaltungen-zum-m-a-studiengang-literatu
 rvermittlung-in-den-medien
END:VEVENT
BEGIN:VTIMEZONE
TZID:Europe/Berlin
X-LIC-LOCATION:Europe/Berlin
BEGIN:DAYLIGHT
DTSTART:20220327T030000
TZNAME:CEST
TZOFFSETFROM:+0100
TZOFFSETTO:+0200
END:DAYLIGHT
END:VTIMEZONE
END:VCALENDAR
