BEGIN:VCALENDAR
VERSION:2.0
PRODID:-//Plone.org//NONSGML plone.app.event//EN
X-WR-TIMEZONE:Europe/Berlin
BEGIN:VEVENT
SUMMARY:Digitale Infoveranstaltung zum M.A.-Studiengang "Literaturvermittl
 ung in den Medien"
DTSTART;TZID=Europe/Berlin:20240607T113000
DTEND;TZID=Europe/Berlin:20240607T130000
DTSTAMP:20260425T224614Z
UID:2483d6d16cb4488e911bf53c4332462f@www.uni-marburg.de
CREATED:20240604T104856Z
DESCRIPTION:https://www.uni-marburg.de/de/fb09/neuere-deutsche-literatur/a
 ktuelles/termine/digitale-infoveranstaltung-zum-m-a-studiengang-literaturv
 ermittlung-in-den-medien\n
LAST-MODIFIED:20240604T104905Z
LOCATION:digital (https://webconf.hrz.uni-marburg.de/n/rooms/wxv-wpw-vvb-4
 to/join)
URL:https://www.uni-marburg.de/de/fb09/neuere-deutsche-literatur/aktuelles
 /termine/digitale-infoveranstaltung-zum-m-a-studiengang-literaturvermittlu
 ng-in-den-medien
END:VEVENT
BEGIN:VTIMEZONE
TZID:Europe/Berlin
X-LIC-LOCATION:Europe/Berlin
BEGIN:DAYLIGHT
DTSTART:20240331T030000
TZNAME:CEST
TZOFFSETFROM:+0100
TZOFFSETTO:+0200
END:DAYLIGHT
END:VTIMEZONE
END:VCALENDAR
