BEGIN:VCALENDAR
VERSION:2.0
PRODID:-//Plone.org//NONSGML plone.app.event//EN
X-WR-TIMEZONE:Europe/Berlin
BEGIN:VEVENT
SUMMARY:Einladung zum Sommerfest
DTSTART;TZID=Europe/Berlin:20230705T180000
DTSTAMP:20260425T034429Z
UID:d358db3333004340acc078b7829b6d57@www.uni-marburg.de
CREATED:20230621T065831Z
DESCRIPTION:https://www.uni-marburg.de/de/fb09/neuere-deutsche-literatur/a
 ktuelles/termine/einladung-zum-sommerfest\n
LAST-MODIFIED:20230621T065856Z
LOCATION:Deutschhausstraße 3\, Hof hinter dem Institutsgebäude
URL:https://www.uni-marburg.de/de/fb09/neuere-deutsche-literatur/aktuelles
 /termine/einladung-zum-sommerfest
END:VEVENT
BEGIN:VTIMEZONE
TZID:Europe/Berlin
X-LIC-LOCATION:Europe/Berlin
BEGIN:DAYLIGHT
DTSTART:20230326T030000
TZNAME:CEST
TZOFFSETFROM:+0100
TZOFFSETTO:+0200
END:DAYLIGHT
END:VTIMEZONE
END:VCALENDAR
