BEGIN:VCALENDAR
VERSION:2.0
PRODID:-//Plone.org//NONSGML plone.app.event//EN
X-WR-TIMEZONE:Europe/Berlin
BEGIN:VEVENT
SUMMARY:Faust – ein deutscher Mythos? Eine Podiumsdiskussion mit Dieter 
 Borchmeyer und Manuel Bauer
DTSTART;TZID=Europe/Berlin:20180712T190000
DTSTAMP:20260424T174442Z
UID:9877ebd0afd145fcab3c7bf262aec71f@www.uni-marburg.de
ATTENDEE;CN="Dieter Borchmeyer";ROLE=REQ-PARTICIPANT:Dieter Borchmeyer
ATTENDEE;CN="Manuel Bauer";ROLE=REQ-PARTICIPANT:Manuel Bauer
CREATED:20180704T100244Z
DESCRIPTION:https://www.uni-marburg.de/de/fb09/neuere-deutsche-literatur/a
 ktuelles/termine/faust-ein-deutscher-mythos-eine-podiumsdiskussion-mit-die
 ter-borchmeyer-und-manuel-bauer\n
LAST-MODIFIED:20180704T100622Z
LOCATION:Universitätsbibliothek Marburg (Vortragssaal im Neubau)\;  Deuts
 chhausstraße 9\, 35032 Marburg
URL:https://www.uni-marburg.de/de/fb09/neuere-deutsche-literatur/aktuelles
 /termine/faust-ein-deutscher-mythos-eine-podiumsdiskussion-mit-dieter-borc
 hmeyer-und-manuel-bauer
END:VEVENT
BEGIN:VTIMEZONE
TZID:Europe/Berlin
X-LIC-LOCATION:Europe/Berlin
BEGIN:DAYLIGHT
DTSTART:20180325T030000
TZNAME:CEST
TZOFFSETFROM:+0100
TZOFFSETTO:+0200
END:DAYLIGHT
END:VTIMEZONE
END:VCALENDAR
