BEGIN:VCALENDAR
VERSION:2.0
PRODID:-//Plone.org//NONSGML plone.app.event//EN
X-WR-TIMEZONE:Europe/Berlin
BEGIN:VEVENT
SUMMARY:Infoveranstaltung Deutsche Literatur (M.A.)
DTSTART;TZID=Europe/Berlin:20180620T140000
DTSTAMP:20260420T234336Z
UID:d75d282ced8f49949ca5f82176250434@www.uni-marburg.de
CREATED:20180530T072432Z
DESCRIPTION:https://www.uni-marburg.de/de/fb09/neuere-deutsche-literatur/a
 ktuelles/termine/info_madl\n
LAST-MODIFIED:20180530T072514Z
LOCATION:Deutschhausstr. 3\, Raum 00/2020
URL:https://www.uni-marburg.de/de/fb09/neuere-deutsche-literatur/aktuelles
 /termine/info_madl
END:VEVENT
BEGIN:VTIMEZONE
TZID:Europe/Berlin
X-LIC-LOCATION:Europe/Berlin
BEGIN:DAYLIGHT
DTSTART:20180325T030000
TZNAME:CEST
TZOFFSETFROM:+0100
TZOFFSETTO:+0200
END:DAYLIGHT
END:VTIMEZONE
END:VCALENDAR
