BEGIN:VCALENDAR
VERSION:2.0
PRODID:-//Plone.org//NONSGML plone.app.event//EN
X-WR-TIMEZONE:Europe/Berlin
BEGIN:VEVENT
SUMMARY:Infoveranstaltung zum Masterstudiengang "Text - Kultur - Medien"
DTSTART;TZID=Europe/Berlin:20250716T181500
DTEND;TZID=Europe/Berlin:20250716T194500
DTSTAMP:20260425T034607Z
UID:cba4f14771434eb5b2981dca990f9d8b@www.uni-marburg.de
ATTENDEE;CN="Prof. Dr. Hania Siebenpfeiffer";ROLE=REQ-PARTICIPANT:Prof. Dr
 . Hania Siebenpfeiffer
CREATED:20250709T114345Z
DESCRIPTION:https://www.uni-marburg.de/de/fb09/neuere-deutsche-literatur/a
 ktuelles/termine/infoveranstaltung-zum-masterstudiengang-text-kultur-medie
 n\n
LAST-MODIFIED:20250709T114400Z
LOCATION:Online
URL:https://www.uni-marburg.de/de/fb09/neuere-deutsche-literatur/aktuelles
 /termine/infoveranstaltung-zum-masterstudiengang-text-kultur-medien
END:VEVENT
BEGIN:VTIMEZONE
TZID:Europe/Berlin
X-LIC-LOCATION:Europe/Berlin
BEGIN:DAYLIGHT
DTSTART:20250330T030000
TZNAME:CEST
TZOFFSETFROM:+0100
TZOFFSETTO:+0200
END:DAYLIGHT
END:VTIMEZONE
END:VCALENDAR
