BEGIN:VCALENDAR
VERSION:2.0
PRODID:-//Plone.org//NONSGML plone.app.event//EN
X-WR-TIMEZONE:Europe/Berlin
BEGIN:VEVENT
SUMMARY:Literatur als »ein Organon der Geschichte« - Fachwissenschaftlic
 hes Kolloquium anlässlich des 70. Geburtstages von Prof. Dr. Heinrich Kau
 len
DTSTART;TZID=Europe/Berlin:20231026T141000
DTEND;TZID=Europe/Berlin:20231027T122000
DTSTAMP:20260425T050959Z
UID:272e26f009794674a609b6fa47bedc0e@www.uni-marburg.de
CREATED:20231004T102425Z
DESCRIPTION:https://www.uni-marburg.de/de/fb09/neuere-deutsche-literatur/a
 ktuelles/termine/literatur-als-ein-organon-der-geschichte\n
LAST-MODIFIED:20231004T103008Z
LOCATION:Vortragssaal 001\, DSA\, Pilgrimstein 16 und Hörsaal +1/1090\, D
 eutschhausstr. 3
URL:https://www.uni-marburg.de/de/fb09/neuere-deutsche-literatur/aktuelles
 /termine/literatur-als-ein-organon-der-geschichte
END:VEVENT
BEGIN:VTIMEZONE
TZID:Europe/Berlin
X-LIC-LOCATION:Europe/Berlin
BEGIN:DAYLIGHT
DTSTART:20230326T030000
TZNAME:CEST
TZOFFSETFROM:+0100
TZOFFSETTO:+0200
END:DAYLIGHT
END:VTIMEZONE
END:VCALENDAR
