BEGIN:VCALENDAR
VERSION:2.0
PRODID:-//Plone.org//NONSGML plone.app.event//EN
X-WR-TIMEZONE:Europe/Berlin
BEGIN:VEVENT
SUMMARY:nachts oder in einem anderen Zustand von Licht
DTSTART;TZID=Europe/Berlin:20171123T200000
DTSTAMP:20260423T113657Z
UID:397d2824931d46ef82c1c45b2b53f0ea@www.uni-marburg.de
CREATED:20171122T154601Z
DESCRIPTION:https://www.uni-marburg.de/de/fb09/neuere-deutsche-literatur/a
 ktuelles/termine/nachts-oder-in-einem-anderen-zustand-von-licht\nStreifzü
 ge durch literarische Nächte
LAST-MODIFIED:20171122T154738Z
LOCATION:Haus der Romantik
URL:https://www.uni-marburg.de/de/fb09/neuere-deutsche-literatur/aktuelles
 /termine/nachts-oder-in-einem-anderen-zustand-von-licht
END:VEVENT
BEGIN:VTIMEZONE
TZID:Europe/Berlin
X-LIC-LOCATION:Europe/Berlin
BEGIN:STANDARD
DTSTART:20171029T020000
TZNAME:CET
TZOFFSETFROM:+0200
TZOFFSETTO:+0100
END:STANDARD
END:VTIMEZONE
END:VCALENDAR
