BEGIN:VCALENDAR
VERSION:2.0
PRODID:-//Plone.org//NONSGML plone.app.event//EN
X-WR-TIMEZONE:Europe/Berlin
BEGIN:VEVENT
SUMMARY:Korrespondenzen als Forschungsdaten – Romantiker-Briefwechsel un
 d Social Media als Wissenskommunikation
DTSTART;TZID=Europe/Berlin:20180705T180000
DTSTAMP:20260421T172328Z
UID:760ef1958c2247bc9492efb70b61fd42@www.uni-marburg.de
ATTENDEE;CN="Dr. Ortrun Brand, Leiterin der Stabsstelle & Projektkoordinat
 orin heFDI an der Philipps-Universität Marburg";ROLE=REQ-PARTICIPANT:Dr. 
 Ortrun Brand, Leiterin der Stabsstelle & Projektkoordinatorin heFDI an der
  Philipps-Universität Marburg
ATTENDEE;CN=;ROLE=REQ-PARTICIPANT:
ATTENDEE;CN="Prof. Dr. Thomas Bürger, Generaldirektor der Staats- und Uni
 versitätsbibliothek Dresden (SLUB)";ROLE=REQ-PARTICIPANT:Prof. Dr. Thomas
  Bürger, Generaldirektor der Staats- und Universitätsbibliothek Dresden 
 (SLUB)
ATTENDEE;CN=;ROLE=REQ-PARTICIPANT:
ATTENDEE;CN="Prof. Dr. Petra Gehring, Philosophin an der TU Darmstadt, Vor
 sitzende des Rats für Informationsinfrastrukturen (RfII)";ROLE=REQ-PARTIC
 IPANT:Prof. Dr. Petra Gehring, Philosophin an der TU Darmstadt, Vorsitzend
 e des Rats für Informationsinfrastrukturen (RfII)
ATTENDEE;CN=;ROLE=REQ-PARTICIPANT:
ATTENDEE;CN="Prof. Dr. Malte Hagener, Medienwissenschaftler, Dekan des Fac
 hbereichs Germanistik und Kunstwissenschaften der Philipps-Universität Ma
 rburg";ROLE=REQ-PARTICIPANT:Prof. Dr. Malte Hagener, Medienwissenschaftler
 , Dekan des Fachbereichs Germanistik und Kunstwissenschaften der Philipps-
 Universität Marburg
ATTENDEE;CN=" ";ROLE=REQ-PARTICIPANT: 
ATTENDEE;CN="Prof. Dr. Jürgen Hanneder, Indologe an der Philipps-Universi
 tät Marburg";ROLE=REQ-PARTICIPANT:Prof. Dr. Jürgen Hanneder, Indologe an
  der Philipps-Universität Marburg
ATTENDEE;CN=;ROLE=REQ-PARTICIPANT:
ATTENDEE;CN="Josua Lenz, Studierender an der Philipps-Universität Marburg
 ";ROLE=REQ-PARTICIPANT:Josua Lenz, Studierender an der Philipps-Universit
 ät Marburg
ATTENDEE;CN=;ROLE=REQ-PARTICIPANT:
ATTENDEE;CN="Einführung und Moderation: Prof. Dr. Jochen Strobel, Literat
 urwissenschaftler an der Philipps-Universität Marburg";ROLE=REQ-PARTICIPA
 NT:Einführung und Moderation: Prof. Dr. Jochen Strobel, Literaturwissensc
 haftler an der Philipps-Universität Marburg
ATTENDEE;CN=;ROLE=REQ-PARTICIPANT:
CREATED:20180621T093944Z
DESCRIPTION:https://www.uni-marburg.de/de/fb09/neuere-deutsche-literatur/a
 ktuelles/termine/podiumsdiskussion\nPodiumsdiskussion
LAST-MODIFIED:20180621T094739Z
LOCATION:Vortragsraum UB Marburg
URL:https://www.uni-marburg.de/de/fb09/neuere-deutsche-literatur/aktuelles
 /termine/podiumsdiskussion
END:VEVENT
BEGIN:VTIMEZONE
TZID:Europe/Berlin
X-LIC-LOCATION:Europe/Berlin
BEGIN:DAYLIGHT
DTSTART:20180325T030000
TZNAME:CEST
TZOFFSETFROM:+0100
TZOFFSETTO:+0200
END:DAYLIGHT
END:VTIMEZONE
END:VCALENDAR
