BEGIN:VCALENDAR
VERSION:2.0
PRODID:-//Plone.org//NONSGML plone.app.event//EN
X-WR-TIMEZONE:Europe/Berlin
BEGIN:VEVENT
SUMMARY:Right here\, right now – Zeige-Gesten in populären Liedkulturen
  des 20. und 21. Jahrhunderts
DTSTART;TZID=Europe/Berlin:20250603T181500
DTEND;TZID=Europe/Berlin:20250603T194500
DTSTAMP:20260425T002634Z
UID:ed4232442c454e07808ea406ac2a3c2c@www.uni-marburg.de
ATTENDEE;CN="Prof. Dr. Anne Holzmüller (Musikwissenschaft) / Prof. Dr. Fa
 bian Wolbring (Deutschdidaktik)";ROLE=REQ-PARTICIPANT:Prof. Dr. Anne Holzm
 üller (Musikwissenschaft) / Prof. Dr. Fabian Wolbring (Deutschdidaktik)
CREATED:20250409T131132Z
DESCRIPTION:https://www.uni-marburg.de/de/fb09/neuere-deutsche-literatur/a
 ktuelles/termine/right-here-right-now-zeige-gesten-in-populaeren-liedkultu
 ren-des-20-und-21-jahrhunderts\n
LAST-MODIFIED:20250409T131147Z
LOCATION:Deutsches Dokumentationszentrum für Kunstgeschichte\, Pilgrimste
 in 14\, Hörsaal
URL:https://www.uni-marburg.de/de/fb09/neuere-deutsche-literatur/aktuelles
 /termine/right-here-right-now-zeige-gesten-in-populaeren-liedkulturen-des-
 20-und-21-jahrhunderts
END:VEVENT
BEGIN:VTIMEZONE
TZID:Europe/Berlin
X-LIC-LOCATION:Europe/Berlin
BEGIN:DAYLIGHT
DTSTART:20250330T030000
TZNAME:CEST
TZOFFSETFROM:+0100
TZOFFSETTO:+0200
END:DAYLIGHT
END:VTIMEZONE
END:VCALENDAR
