BEGIN:VCALENDAR
VERSION:2.0
PRODID:-//Plone.org//NONSGML plone.app.event//EN
X-WR-TIMEZONE:Europe/Berlin
BEGIN:VEVENT
SUMMARY:Showing Seeing – Über das Ausstellen mit und von Fotografien
DTSTART;TZID=Europe/Berlin:20250506T181500
DTEND;TZID=Europe/Berlin:20250506T194500
DTSTAMP:20260425T224610Z
UID:c075f36dc07e4ccba401c6cd48557aec@www.uni-marburg.de
ATTENDEE;CN="Prof. Dr. Hubert Locher, Deutsches Dokumentationszentrum für
  Kunstgeschichte ";ROLE=REQ-PARTICIPANT:Prof. Dr. Hubert Locher, Deutsches
  Dokumentationszentrum für Kunstgeschichte 
CREATED:20250409T125612Z
DESCRIPTION:https://www.uni-marburg.de/de/fb09/neuere-deutsche-literatur/a
 ktuelles/termine/showing-seeing-ueber-das-ausstellen-mit-und-von-fotografi
 en\n
LAST-MODIFIED:20250409T125942Z
LOCATION:Forschungsbau Deutsches Dokumentationszentrum für Kunstgeschicht
 e\, Pilgrimstein 14\, Hörsaal
URL:https://www.uni-marburg.de/de/fb09/neuere-deutsche-literatur/aktuelles
 /termine/showing-seeing-ueber-das-ausstellen-mit-und-von-fotografien
END:VEVENT
BEGIN:VTIMEZONE
TZID:Europe/Berlin
X-LIC-LOCATION:Europe/Berlin
BEGIN:DAYLIGHT
DTSTART:20250330T030000
TZNAME:CEST
TZOFFSETFROM:+0100
TZOFFSETTO:+0200
END:DAYLIGHT
END:VTIMEZONE
END:VCALENDAR
