BEGIN:VCALENDAR
VERSION:2.0
PRODID:-//Plone.org//NONSGML plone.app.event//EN
X-WR-TIMEZONE:Europe/Berlin
BEGIN:VEVENT
SUMMARY:Von Zeigestock\, Bänkelgesang bis zur Geste bei Brecht – Musikd
 ramatisches Zeigen
DTSTART;TZID=Europe/Berlin:20250701T181500
DTEND;TZID=Europe/Berlin:20250701T194500
DTSTAMP:20260425T185804Z
UID:1cc3f820cf4046db9801f69a981571c0@www.uni-marburg.de
ATTENDEE;CN="Prof. Dr. Marion Schmaus (Neuere deutsche Literatur)";ROLE=RE
 Q-PARTICIPANT:Prof. Dr. Marion Schmaus (Neuere deutsche Literatur)
CREATED:20250409T132615Z
DESCRIPTION:https://www.uni-marburg.de/de/fb09/neuere-deutsche-literatur/a
 ktuelles/termine/von-zeigestock-baenkelgesang-bis-zur-geste-bei-brecht-mus
 ikdramatisches-zeigen\n
LAST-MODIFIED:20250409T132625Z
LOCATION:Deutsches Dokumentationszentrum für Kunstgeschichte\, Pilgrimste
 in 14\, Hörsaal
URL:https://www.uni-marburg.de/de/fb09/neuere-deutsche-literatur/aktuelles
 /termine/von-zeigestock-baenkelgesang-bis-zur-geste-bei-brecht-musikdramat
 isches-zeigen
END:VEVENT
BEGIN:VTIMEZONE
TZID:Europe/Berlin
X-LIC-LOCATION:Europe/Berlin
BEGIN:DAYLIGHT
DTSTART:20250330T030000
TZNAME:CEST
TZOFFSETFROM:+0100
TZOFFSETTO:+0200
END:DAYLIGHT
END:VTIMEZONE
END:VCALENDAR
