BEGIN:VCALENDAR
VERSION:2.0
PRODID:-//Plone.org//NONSGML plone.app.event//EN
X-WR-TIMEZONE:Europe/Berlin
BEGIN:VEVENT
SUMMARY:Vortrag von Prof. Dr. Chryssoula Kambas
DTSTART;TZID=Europe/Berlin:20190521T181500
DTEND;TZID=Europe/Berlin:20190521T194500
DTSTAMP:20260425T020417Z
UID:aca57b987e90442b9fd28954e7cc7dfd@www.uni-marburg.de
CREATED:20190514T094831Z
DESCRIPTION:https://www.uni-marburg.de/de/fb09/neuere-deutsche-literatur/a
 ktuelles/termine/vortrag-von-prof-dr-chryssoula-kambas\nSchriftsteller-Int
 ellektuelle gegen die griechische Junta (1967-1974). \nMax Frisch\, Günte
 r Grass\, Günter Wallraff
LAST-MODIFIED:20190514T094915Z
LOCATION:Deutschhausstr. 3\, +1/2020
URL:https://www.uni-marburg.de/de/fb09/neuere-deutsche-literatur/aktuelles
 /termine/vortrag-von-prof-dr-chryssoula-kambas
END:VEVENT
BEGIN:VTIMEZONE
TZID:Europe/Berlin
X-LIC-LOCATION:Europe/Berlin
BEGIN:DAYLIGHT
DTSTART:20190331T030000
TZNAME:CEST
TZOFFSETFROM:+0100
TZOFFSETTO:+0200
END:DAYLIGHT
END:VTIMEZONE
END:VCALENDAR
