BEGIN:VCALENDAR
VERSION:2.0
PRODID:-//Plone.org//NONSGML plone.app.event//EN
X-WR-TIMEZONE:Europe/Berlin
BEGIN:VEVENT
SUMMARY:Korpora managen und analysieren mit Sketch Engine
DTSTART;TZID=Europe/Berlin:20260610T141500
DTEND;TZID=Europe/Berlin:20260610T154500
DTSTAMP:20260421T081708Z
UID:f6198d91dc3a43a098614ecad3066a8f@www.uni-marburg.de
ATTENDEE;CN="Linnea Garlepow";ROLE=REQ-PARTICIPANT:Linnea Garlepow
CREATED:20260416T073705Z
DESCRIPTION:https://www.uni-marburg.de/de/fb10/aktuelles/termine/korpora-m
 anagen-und-analysieren-mit-sketch-engine\n
LAST-MODIFIED:20260416T073734Z
LOCATION:https://webconf.hrz.uni-marburg.de/n/rooms/l1k-kvo-phz-4dg/join
URL:https://www.uni-marburg.de/de/fb10/aktuelles/termine/korpora-managen-u
 nd-analysieren-mit-sketch-engine
END:VEVENT
BEGIN:VTIMEZONE
TZID:Europe/Berlin
X-LIC-LOCATION:Europe/Berlin
BEGIN:DAYLIGHT
DTSTART:20260329T030000
TZNAME:CEST
TZOFFSETFROM:+0100
TZOFFSETTO:+0200
END:DAYLIGHT
END:VTIMEZONE
END:VCALENDAR
