BEGIN:VCALENDAR
VERSION:2.0
PRODID:-//Plone.org//NONSGML plone.app.event//EN
X-WR-TIMEZONE:Europe/Berlin
BEGIN:VEVENT
SUMMARY:Klausur "Funktionale Lateinkenntnisse"
DTSTART;TZID=Europe/Berlin:20200224T100000
DTEND;TZID=Europe/Berlin:20200224T120000
DTSTAMP:20260425T033620Z
UID:227afa30f2e9489fa9d23979a31b9705@www.uni-marburg.de
CREATED:20181203T131834Z
DESCRIPTION:https://www.uni-marburg.de/de/fb10/romanistik/aktuelles/termin
 e/copy_of_klausur-funktionale-lateinkenntnisse\nfür Studierende der Studi
 engänge "Modularisiertes Lehramt" und "B.A. Romanische Kulturen: Kommunik
 ation\, Sprache\, Literatur"
LAST-MODIFIED:20200205T172441Z
LOCATION:Wilhelm-Röpke-Straße 6C\, 9. Stock\, Raum 09C06
URL:https://www.uni-marburg.de/de/fb10/romanistik/aktuelles/termine/copy_o
 f_klausur-funktionale-lateinkenntnisse
END:VEVENT
BEGIN:VTIMEZONE
TZID:Europe/Berlin
X-LIC-LOCATION:Europe/Berlin
BEGIN:STANDARD
DTSTART:20191027T020000
TZNAME:CET
TZOFFSETFROM:+0200
TZOFFSETTO:+0100
END:STANDARD
END:VTIMEZONE
END:VCALENDAR
