BEGIN:VCALENDAR
VERSION:2.0
PRODID:-//Plone.org//NONSGML plone.app.event//EN
X-WR-TIMEZONE:Europe/Berlin
BEGIN:VEVENT
SUMMARY:Informationsveranstaltung zum Studium und Praktikum im romanischsp
 rachigen Ausland
DTSTART;TZID=Europe/Berlin:20251112T141500
DTSTAMP:20260425T061036Z
UID:9748197494974312af5598de4a1c8e11@www.uni-marburg.de
ATTENDEE;CN="Dr. Christiane Rokitzki";ROLE=REQ-PARTICIPANT:Dr. Christiane 
 Rokitzki
ATTENDEE;CN=Auslandsstudienkoordination;ROLE=REQ-PARTICIPANT:Auslandsstudi
 enkoordination
CATEGORIES:()
CREATED:20180611T161108Z
DESCRIPTION:https://www.uni-marburg.de/de/fb10/romanistik/aktuelles/termin
 e/erasmus-informationsveranstaltung-der-romanistik_2023\nAustauschprogramm
  Erasmus+ und Partnerprogramme
LAST-MODIFIED:20251020T154301Z
LOCATION:PhilFak (Wilhelm-Röpke-Straße 6)\, Raum 03D09 und über BigBlue
 Button
URL:https://www.uni-marburg.de/de/fb10/romanistik/aktuelles/termine/erasmu
 s-informationsveranstaltung-der-romanistik_2023
END:VEVENT
BEGIN:VTIMEZONE
TZID:Europe/Berlin
X-LIC-LOCATION:Europe/Berlin
BEGIN:STANDARD
DTSTART:20251026T020000
TZNAME:CET
TZOFFSETFROM:+0200
TZOFFSETTO:+0100
END:STANDARD
END:VTIMEZONE
END:VCALENDAR
