BEGIN:VCALENDAR
VERSION:2.0
PRODID:-//Plone.org//NONSGML plone.app.event//EN
X-WR-TIMEZONE:Europe/Berlin
BEGIN:VEVENT
SUMMARY:Auslands-Vorbereitungsseminar für nominierte Studierende (Erasmus
 + / Overseas)
DTSTART;TZID=Europe/Berlin:20260220T093000
DTEND;TZID=Europe/Berlin:20260220T123000
DTSTAMP:20260419T175645Z
UID:c03d74e0104d4fbe9bc968aac7b9533d@www.uni-marburg.de
ATTENDEE;CN="Dr. Christiane Rokitzki";ROLE=REQ-PARTICIPANT:Dr. Christiane 
 Rokitzki
ATTENDEE;CN=Auslandsstudienkoordination;ROLE=REQ-PARTICIPANT:Auslandsstudi
 enkoordination
CATEGORIES:()
CREATED:20180808T164403Z
DESCRIPTION:https://www.uni-marburg.de/de/fb10/romanistik/aktuelles/termin
 e/erasmus-vorbereitungsseminar\nOrganisatorische Informationen und Erstell
 ung der Studienverträge
LAST-MODIFIED:20260116T181647Z
LOCATION:PhilFak (Wilhelm-Röpke-Straße 6)\, Raum 03D09
URL:https://www.uni-marburg.de/de/fb10/romanistik/aktuelles/termine/erasmu
 s-vorbereitungsseminar
END:VEVENT
BEGIN:VTIMEZONE
TZID:Europe/Berlin
X-LIC-LOCATION:Europe/Berlin
BEGIN:STANDARD
DTSTART:20251026T020000
TZNAME:CET
TZOFFSETFROM:+0200
TZOFFSETTO:+0100
END:STANDARD
END:VTIMEZONE
END:VCALENDAR
