BEGIN:VCALENDAR
VERSION:2.0
PRODID:-//Plone.org//NONSGML plone.app.event//EN
X-WR-TIMEZONE:Europe/Berlin
BEGIN:VEVENT
SUMMARY:Physics\, Data Science\, Informatics and Economics
DTSTART;TZID=Europe/Berlin:20190516T100000
DTEND;TZID=Europe/Berlin:20190517T153000
DTSTAMP:20260420T133011Z
UID:9a890b7bcf1c425ab90dbf362c1cca45@www.uni-marburg.de
CREATED:20190510T152737Z
DESCRIPTION:https://www.uni-marburg.de/de/fb13/aktuelles/termine/andere-ve
 ranstaltungen/2019/physics-data-science-informatics-and-economics\nWorksho
 p am 16. und 17. Mai 2019. Die Veranstaltung richtet sich vornehmlich an F
 orschende\, die an Interaktionen mit der Wirtschaft interessiert sind und 
 Unternehmer und Vertreter der Wirtschaft\, die an Kooperationen in Forschu
 ng und Lehre interessiert sind.
LAST-MODIFIED:20190510T153012Z
LOCATION:Forschungszentrum deutscher Sprachatlas der Philipps-Universität
  Marburg\, Pilgrimstein 16\, 35037 Marburg
URL:https://www.uni-marburg.de/de/fb13/aktuelles/termine/andere-veranstalt
 ungen/2019/physics-data-science-informatics-and-economics
END:VEVENT
BEGIN:VTIMEZONE
TZID:Europe/Berlin
X-LIC-LOCATION:Europe/Berlin
BEGIN:DAYLIGHT
DTSTART:20190331T030000
TZNAME:CEST
TZOFFSETFROM:+0100
TZOFFSETTO:+0200
END:DAYLIGHT
END:VTIMEZONE
END:VCALENDAR
