BEGIN:VCALENDAR
VERSION:2.0
PRODID:-//Plone.org//NONSGML plone.app.event//EN
X-WR-TIMEZONE:Europe/Berlin
BEGIN:VEVENT
SUMMARY:A Chemist’s Perspective on the Sustainability Crisis: From Green
  to Sustainable Chemistry
DTSTART;TZID=Europe/Berlin:20230418T160000
DTEND;TZID=Europe/Berlin:20230418T180000
DTSTAMP:20260425T225331Z
UID:a6370776bc5b48c8a8555fd97f2d2bd4@www.uni-marburg.de
ATTENDEE;CN="Prof. Dr. Klaus Kümmerer, Leuphana University Lüneburg";ROL
 E=REQ-PARTICIPANT:Prof. Dr. Klaus Kümmerer, Leuphana University Lüneburg
CREATED:20230418T083543Z
DESCRIPTION:https://www.uni-marburg.de/de/fb13/aktuelles/termine/andere-ve
 ranstaltungen/2023/a-chemist2019s-perspective-on-the-sustainability-crisis
 -from-green-to-sustainable-chemistry\nVorlesung im Rahmen der interdiszipl
 inären Ringvorlesung "Perspectives on the Sustainability Crisis"
LAST-MODIFIED:20230418T103246Z
LOCATION:Großer Hörsaal der Physik (Renthof 5) und online
URL:https://www.uni-marburg.de/de/fb13/aktuelles/termine/andere-veranstalt
 ungen/2023/a-chemist2019s-perspective-on-the-sustainability-crisis-from-gr
 een-to-sustainable-chemistry
END:VEVENT
BEGIN:VTIMEZONE
TZID:Europe/Berlin
X-LIC-LOCATION:Europe/Berlin
BEGIN:DAYLIGHT
DTSTART:20230326T030000
TZNAME:CEST
TZOFFSETFROM:+0100
TZOFFSETTO:+0200
END:DAYLIGHT
END:VTIMEZONE
END:VCALENDAR
