BEGIN:VCALENDAR
VERSION:2.0
PRODID:-//Plone.org//NONSGML plone.app.event//EN
X-WR-TIMEZONE:Europe/Berlin
BEGIN:VEVENT
SUMMARY:Akademische Feier anlässlich der Verleihung des Alfred-Wegener Di
 ssertationspreises
DTSTART;TZID=Europe/Berlin:20231130T160000
DTEND;TZID=Europe/Berlin:20231130T173000
DTSTAMP:20260425T213925Z
UID:586c42511b7c4a3798f50652967cc98f@www.uni-marburg.de
CREATED:20231102T174845Z
DESCRIPTION:https://www.uni-marburg.de/de/fb13/aktuelles/termine/andere-ve
 ranstaltungen/2023/akademische-feier-anlaesslich-der-verleihung-des-alfred
 -wegener-dissertationspreises\n
LAST-MODIFIED:20231102T183519Z
LOCATION:Fachbereich Physik\, Renthof 5\, Kleiner Hörsaal
URL:https://www.uni-marburg.de/de/fb13/aktuelles/termine/andere-veranstalt
 ungen/2023/akademische-feier-anlaesslich-der-verleihung-des-alfred-wegener
 -dissertationspreises
END:VEVENT
BEGIN:VTIMEZONE
TZID:Europe/Berlin
X-LIC-LOCATION:Europe/Berlin
BEGIN:STANDARD
DTSTART:20231029T020000
TZNAME:CET
TZOFFSETFROM:+0200
TZOFFSETTO:+0100
END:STANDARD
END:VTIMEZONE
END:VCALENDAR
