BEGIN:VCALENDAR
VERSION:2.0
PRODID:-//Plone.org//NONSGML plone.app.event//EN
X-WR-TIMEZONE:Europe/Berlin
BEGIN:VEVENT
SUMMARY:Black\, round\, and a hole in the center - the journey of a semico
 nductor physicist becoming a R&D manager outside the Tech Industry
DTSTART;TZID=Europe/Berlin:20240115T160000
DTEND;TZID=Europe/Berlin:20240115T180000
DTSTAMP:20260426T052254Z
UID:1a5323f1a56e40feb3311d8527cce121@www.uni-marburg.de
ATTENDEE;CN="Dr. Christian Lerner (Continental)";ROLE=REQ-PARTICIPANT:Dr. 
 Christian Lerner (Continental)
CREATED:20231114T120828Z
DESCRIPTION:https://www.uni-marburg.de/de/fb13/aktuelles/termine/andere-ve
 ranstaltungen/2023/black-round-and-a-hole-in-the-center-the-journey-of-a-s
 emiconductor-physicist-becoming-a-r-d-manager-outside-the-tech-industry\n
LAST-MODIFIED:20231114T120933Z
LOCATION:Fachbereich Physik\, Renthof 6\, Hörsaal
URL:https://www.uni-marburg.de/de/fb13/aktuelles/termine/andere-veranstalt
 ungen/2023/black-round-and-a-hole-in-the-center-the-journey-of-a-semicondu
 ctor-physicist-becoming-a-r-d-manager-outside-the-tech-industry
END:VEVENT
BEGIN:VTIMEZONE
TZID:Europe/Berlin
X-LIC-LOCATION:Europe/Berlin
BEGIN:STANDARD
DTSTART:20231029T020000
TZNAME:CET
TZOFFSETFROM:+0200
TZOFFSETTO:+0100
END:STANDARD
END:VTIMEZONE
END:VCALENDAR
