BEGIN:VCALENDAR
VERSION:2.0
PRODID:-//Plone.org//NONSGML plone.app.event//EN
X-WR-TIMEZONE:Europe/Berlin
BEGIN:VEVENT
SUMMARY:Firma Battenberg Robotic: Methoden und Anwendungen der Messrobotik
DTSTART;TZID=Europe/Berlin:20230123T161500
DTSTAMP:20260424T060634Z
UID:9191d1aeaa6a4d89abd0c63c823d9299@www.uni-marburg.de
ATTENDEE;CN="Dr. Lukas Schneebeli, Battenberg ROBOTIC GmbH & Co. KG";ROLE=
 REQ-PARTICIPANT:Dr. Lukas Schneebeli, Battenberg ROBOTIC GmbH & Co. KG
CREATED:20230122T105137Z
DESCRIPTION:https://www.uni-marburg.de/de/fb13/aktuelles/termine/andere-ve
 ranstaltungen/2023/firma-battenberg-robotic-methoden-und-anwendungen-der-m
 essrobotik\nVortrag im Rahmen des integrativen Seminars Physik und Wirtsch
 aft/Physik grüner Technologien
LAST-MODIFIED:20230122T105220Z
LOCATION:Renthof 5\, Größer Hörsaal
URL:https://www.uni-marburg.de/de/fb13/aktuelles/termine/andere-veranstalt
 ungen/2023/firma-battenberg-robotic-methoden-und-anwendungen-der-messrobot
 ik
END:VEVENT
BEGIN:VTIMEZONE
TZID:Europe/Berlin
X-LIC-LOCATION:Europe/Berlin
BEGIN:STANDARD
DTSTART:20221030T020000
TZNAME:CET
TZOFFSETFROM:+0200
TZOFFSETTO:+0100
END:STANDARD
END:VTIMEZONE
END:VCALENDAR
